Workbook

Sheet Guidelines
A1: Six Sigma Quality Tool: Pareto Analysis Automation Guide
A3: Step 1: Navigate to 'Data Input Details' and enter your raw defect categories and counts.
A4: Step 2: Sort the data in Column B - Largest to smallest
A5: Step 3: Review dynamically calculated cumulative percentages and generated Pareto chart on 'Created Pareto Graph'.
A6: Step 4: Compare your application context against business archetypes on 'Pictures of Examples'.

Sheet Data Input Details
A1: Defect Category | B1: Frequency Count
A2: Thread Damage | B2: 90
A3: Surface Scratches | B3: 50
A4: Burrs | B4: 30
A5: Oversize | B5: 20
A6: Discoloration | B6: 10

Sheet Created Pareto Graph
A1: Defect Category | B1: Count | C1: Percent | D1: Cumulative %
A2: =IF('Data Input Details'!A2="","",'Data Input Details'!A2) -> Thread Damage | B2: =IF('Data Input Details'!B2="","",'Data Input Details'!B2) -> 90 | C2: =IF(A2="","",B2/SUM($B$2:$B$10)) -> 0.45 | D2: =IF(A2="","",SUM($C$2:C2)) -> 0.45
A3: =IF('Data Input Details'!A3="","",'Data Input Details'!A3) -> Surface Scratches | B3: =IF('Data Input Details'!B3="","",'Data Input Details'!B3) -> 50 | C3: =IF(A3="","",B3/SUM($B$2:$B$10)) -> 0.25 | D3: =IF(A3="","",SUM($C$2:C3)) -> 0.7
A4: =IF('Data Input Details'!A4="","",'Data Input Details'!A4) -> Burrs | B4: =IF('Data Input Details'!B4="","",'Data Input Details'!B4) -> 30 | C4: =IF(A4="","",B4/SUM($B$2:$B$10)) -> 0.15 | D4: =IF(A4="","",SUM($C$2:C4)) -> 0.85
A5: =IF('Data Input Details'!A5="","",'Data Input Details'!A5) -> Oversize | B5: =IF('Data Input Details'!B5="","",'Data Input Details'!B5) -> 20 | C5: =IF(A5="","",B5/SUM($B$2:$B$10)) -> 0.1 | D5: =IF(A5="","",SUM($C$2:C5)) -> 0.95
A6: =IF('Data Input Details'!A6="","",'Data Input Details'!A6) -> Discoloration | B6: =IF('Data Input Details'!B6="","",'Data Input Details'!B6) -> 10 | C6: =IF(A6="","",B6/SUM($B$2:$B$10)) -> 0.05 | D6: =IF(A6="","",SUM($C$2:C6)) -> 1
A7: =IF('Data Input Details'!A7="","",'Data Input Details'!A7) | B7: =IF('Data Input Details'!B7="","",'Data Input Details'!B7) | C7: =IF(A7="","",B7/SUM($B$2:$B$10)) | D7: =IF(A7="","",SUM($C$2:C7))
A8: =IF('Data Input Details'!A8="","",'Data Input Details'!A8) | B8: =IF('Data Input Details'!B8="","",'Data Input Details'!B8) | C8: =IF(A8="","",B8/SUM($B$2:$B$10)) | D8: =IF(A8="","",SUM($C$2:C8))
A9: =IF('Data Input Details'!A9="","",'Data Input Details'!A9) | B9: =IF('Data Input Details'!B9="","",'Data Input Details'!B9) | C9: =IF(A9="","",B9/SUM($B$2:$B$10)) | D9: =IF(A9="","",SUM($C$2:C9))
A10: =IF('Data Input Details'!A10="","",'Data Input Details'!A10) | B10: =IF('Data Input Details'!B10="","",'Data Input Details'!B10) | C10: =IF(A10="","",B10/SUM($B$2:$B$10)) | D10: =IF(A10="","",SUM($C$2:C10))

Sheet Pictures of Examples
A1: Pareto Application Archetypes & Operational Interpretation
A3: 1. Manufacturing Defect Pareto | B3: Interpretation: Isolates the vital few scrap causes (70% impact from top 2 categories).
A6: 2. Customer Service Inquiry Pareto | B6: Interpretation: Highlights top complaint categories driving 80% of customer service call volume.
A9: 3. Business Profitability Pareto | B9: Interpretation: Demonstrates that 80% of revenue stems from 20% of core product lines.
