Workbook

Sheet Data Entry
A1: Operator | B1: Part ID | C1: Trial 1 | D1: Trial 2 | E1: Trial 3 | F1: Range (R) | G1: Average (X-bar)
A2: Operator A | B2: 1 | C2: =RANDBETWEEN(90,100)/10 -> 9.6 | D2: =RANDBETWEEN(90,100)/10 -> 9.5 | E2: =RANDBETWEEN(90,100)/10 -> 9.8 | F2: =RANDBETWEEN(90,100)/10 -> 9.3 | G2: =AVERAGE(C2:E2) -> 9.6333333
A3: Operator A | B3: 2 | C3: =RANDBETWEEN(90,100)/10 -> 9.3 | D3: =RANDBETWEEN(90,100)/10 -> 9.7 | E3: =RANDBETWEEN(90,100)/10 -> 9.5 | F3: =RANDBETWEEN(90,100)/10 -> 10 | G3: =AVERAGE(C3:E3) -> 9.5
A4: Operator A | B4: 3 | C4: =RANDBETWEEN(90,100)/10 -> 9.8 | D4: =RANDBETWEEN(90,100)/10 -> 9.8 | E4: =RANDBETWEEN(90,100)/10 -> 9.6 | F4: =RANDBETWEEN(90,100)/10 -> 9.1 | G4: =AVERAGE(C4:E4) -> 9.7333333
A5: Operator A | B5: 4 | C5: =RANDBETWEEN(90,100)/10 -> 9.7 | D5: =RANDBETWEEN(90,100)/10 -> 9.4 | E5: =RANDBETWEEN(90,100)/10 -> 9 | F5: =RANDBETWEEN(90,100)/10 -> 9.8 | G5: =AVERAGE(C5:E5) -> 9.3666667
A6: Operator A | B6: 5 | C6: =RANDBETWEEN(90,100)/10 -> 9.2 | D6: =RANDBETWEEN(90,100)/10 -> 9.3 | E6: =RANDBETWEEN(90,100)/10 -> 9.8 | F6: =RANDBETWEEN(90,100)/10 -> 9.6 | G6: =AVERAGE(C6:E6) -> 9.4333333
A7: Operator A | B7: 6 | C7: =RANDBETWEEN(90,100)/10 -> 10 | D7: =RANDBETWEEN(90,100)/10 -> 9.5 | E7: =RANDBETWEEN(90,100)/10 -> 9.6 | F7: =RANDBETWEEN(90,100)/10 -> 9.8 | G7: =AVERAGE(C7:E7) -> 9.7
A8: Operator A | B8: 7 | C8: =RANDBETWEEN(90,100)/10 -> 9.6 | D8: =RANDBETWEEN(90,100)/10 -> 9.7 | E8: =RANDBETWEEN(90,100)/10 -> 9.7 | F8: =RANDBETWEEN(90,100)/10 -> 9.3 | G8: =AVERAGE(C8:E8) -> 9.6666667
A9: Operator A | B9: 8 | C9: =RANDBETWEEN(90,100)/10 -> 9.3 | D9: =RANDBETWEEN(90,100)/10 -> 9.7 | E9: =RANDBETWEEN(90,100)/10 -> 9.4 | F9: =RANDBETWEEN(90,100)/10 -> 9.9 | G9: =AVERAGE(C9:E9) -> 9.4666667
A10: Operator A | B10: 9 | C10: =RANDBETWEEN(90,100)/10 -> 9.1 | D10: =RANDBETWEEN(90,100)/10 -> 9.6 | E10: =RANDBETWEEN(90,100)/10 -> 9.9 | F10: =RANDBETWEEN(90,100)/10 -> 9.8 | G10: =AVERAGE(C10:E10) -> 9.5333333
A11: Operator A | B11: 10 | C11: =RANDBETWEEN(90,100)/10 -> 9.5 | D11: =RANDBETWEEN(90,100)/10 -> 9.2 | E11: =RANDBETWEEN(90,100)/10 -> 9.7 | F11: =RANDBETWEEN(90,100)/10 -> 9.4 | G11: =AVERAGE(C11:E11) -> 9.4666667
A12: Operator B | B12: 1 | C12: =RANDBETWEEN(90,100)/10 -> 9.6 | D12: =RANDBETWEEN(90,100)/10 -> 9 | E12: =RANDBETWEEN(90,100)/10 -> 10 | F12: =RANDBETWEEN(90,100)/10 -> 9 | G12: =AVERAGE(C12:E12) -> 9.5333333
A13: Operator B | B13: 2 | C13: =RANDBETWEEN(90,100)/10 -> 9.9 | D13: =RANDBETWEEN(90,100)/10 -> 9.2 | E13: =RANDBETWEEN(90,100)/10 -> 9.2 | F13: =RANDBETWEEN(90,100)/10 -> 9.6 | G13: =AVERAGE(C13:E13) -> 9.4333333
... A31: Operator C | B31: 10 | C31: =RANDBETWEEN(90,100)/10 -> 9.4 | D31: =RANDBETWEEN(90,100)/10 -> 9.8 | E31: =RANDBETWEEN(90,100)/10 -> 9 | F31: =RANDBETWEEN(90,100)/10 -> 9.4 | G31: =AVERAGE(C31:E31) -> 9.4

Sheet Gage R&R Summary
A1: Continuous Gage R&R Calculation Model (3 Trials - Average & Range Method)
A3: Intermediate Calculation Variables | D3: Gage R&R Variance Component Results
A4: Metric / Variable | B4: Value | D4: Variance Component | E4: Calculated Formula Value
A5: Operator A Range Mean (R_bar_A) | B5: =AVERAGE('Data Entry'!F2:F11) -> 9.6 | D5: Equipment Variation (EV - Repeatability) | E5: =B8*B13 -> 29.0665
A6: Operator B Range Mean (R_bar_B) | B6: =AVERAGE('Data Entry'!F12:F21) -> 9.39 | D6: Appraiser Variation (AV - Reproducibility) | E6: =SQRT(MAX(0, (B12*B14)^2 - (E5^2 / (10*3)))) -> 0
A7: Operator C Range Mean (R_bar_C) | B7: =AVERAGE('Data Entry'!F22:F31) -> 9.6 | D7: Total Gage R&R (GRR) | E7: =SQRT(E5^2 + E6^2) -> 29.0665
A8: Overall Average Range (R_double_bar) | B8: =AVERAGE('Data Entry'!F2:F31) -> 9.53 | D8: Part Variation (PV) | E8: =(MAX('Data Entry'!G2:G31)-MIN('Data Entry'!G2:G31))*B15 -> 1.134
A9: Operator A Mean (X_bar_A) | B9: =AVERAGE('Data Entry'!G2:G11) -> 9.55 | D9: Total Variation (TV) | E9: =SQRT(E7^2 + E8^2) -> 29.088613
A10: Operator B Mean (X_bar_B) | B10: =AVERAGE('Data Entry'!G12:G21) -> 9.4866667 | D10: % Gage R&R (%GRR) | E10: =(E7/E9)*100 -> 99.923982
A11: Operator C Mean (X_bar_C) | B11: =AVERAGE('Data Entry'!G22:G31) -> 9.5066667 | D11: System Evaluation Verdict | E11: =IF(E10<10, "Acceptable", IF(E10<=30, "Marginally Acceptable", "Unacceptable")) -> Unacceptable
A12: Max Operator Difference (X_diff) | B12: =MAX(B9:B11)-MIN(B9:B11) -> 0.063333333
A13: K1 Constant (3 Trials) | B13: 3.05
A14: K2 Constant (3 Operators) | B14: 3.05
A15: K3 Constant (10 Parts) | B15: 1.62

Sheet Sheet1
